BEGIN:VCALENDAR
VERSION:2.0
PRODID:-//Talks.cam//talks.cam.ac.uk//
X-WR-CALNAME:Talks.cam
BEGIN:VEVENT
SUMMARY:Cocaine and Heroin: Two Peas in Two Pods - Professor Aldo Badiani 
 - Neuroscience\, University of Sussex
DTSTART:20141103T130000Z
DTEND:20141103T140000Z
UID:TALK54846@talks.cam.ac.uk
CONTACT:Lorraine Coulson
DESCRIPTION:Abstract not available
LOCATION:Kenneth Craik Room\, Craik Marshall Building\, Downing Site\, Cam
 bridge
END:VEVENT
END:VCALENDAR
