BEGIN:VCALENDAR
VERSION:2.0
PRODID:-//Talks.cam//talks.cam.ac.uk//
X-WR-CALNAME:Talks.cam
BEGIN:VEVENT
SUMMARY:What is the Cambridge Society for Economic Pluralism and Why is it
  Needed? -  A Roundtable Discussion led by Members of the Cambridge Societ
 y for Economic Pluralism
DTSTART:20141027T200000Z
DTEND:20141027T220000Z
UID:TALK54880@talks.cam.ac.uk
CONTACT:Cambridge Social Ontology Group
DESCRIPTION:Abstract not available
LOCATION:Clare College\, Trinity Lane Cambridge\, CB2 1TL\, in the Latimer
  Room\, in the Old Court
END:VEVENT
END:VCALENDAR
