BEGIN:VCALENDAR
VERSION:2.0
PRODID:-//Talks.cam//talks.cam.ac.uk//
X-WR-CALNAME:Talks.cam
BEGIN:VEVENT
SUMMARY:GM - Caroline
DTSTART:20141029T101500Z
DTEND:20141029T113000Z
UID:TALK54905@talks.cam.ac.uk
CONTACT:isabel palacios
DESCRIPTION:Abstract not available
LOCATION:first floor
END:VEVENT
END:VCALENDAR
