BEGIN:VCALENDAR
VERSION:2.0
PRODID:-//Talks.cam//talks.cam.ac.uk//
X-WR-CALNAME:Talks.cam
BEGIN:VEVENT
SUMMARY:Generating the Fuel of Life - Sir John Walker\, MRC Mitochondrial 
 Biology Unit
DTSTART:20141104T200000Z
DTEND:20141104T211500Z
UID:TALK55182@talks.cam.ac.uk
CONTACT:Adam
DESCRIPTION:Sir John Walker discovered the mechanism of ATP synthesis for 
 which he was awarded the Nobel Prize in Chemistry\, in 1997\, and continue
 s to be a major contributor to the understanding of the structure of ATP s
 ynthetase. He is a Fellow of the Royal Society and a former director of th
 e MRC Mitochondrial Biology Unit.\n\nEveryone is welcome. Free for members
 \, £2 on the door for non-members. Followed by refreshments (that means s
 moothies\, cheese and grapes!).
LOCATION:Department of Pharmacology Lecture Theatre\, Tennis Court Road
END:VEVENT
END:VCALENDAR
