BEGIN:VCALENDAR
VERSION:2.0
PRODID:-//Talks.cam//talks.cam.ac.uk//
X-WR-CALNAME:Talks.cam
BEGIN:VEVENT
SUMMARY: - Prof Austin Smith
DTSTART:20141202T200000Z
DTEND:20141202T211500Z
UID:TALK55186@talks.cam.ac.uk
CONTACT:Adam
DESCRIPTION:As the Director of the Cambridge Stem Cell Institute\, Profess
 or Austin Smith studies the molecular determinants of pluripotency and lin
 eage commitment in embryonic stem cells. He will discuss the progress of t
 his innovative field and its diverse applications in pharmaceutical and cl
 inical research.\n\nEveryone is welcome. Free for members\, £2 on the doo
 r for non-members. Followed by refreshments (that means smoothies\, cheese
  and grapes!).
LOCATION:Department of Pharmacology Lecture Theatre\, Tennis Court Road
END:VEVENT
END:VCALENDAR
