BEGIN:VCALENDAR
VERSION:2.0
PRODID:-//Talks.cam//talks.cam.ac.uk//
X-WR-CALNAME:Talks.cam
BEGIN:VEVENT
SUMMARY:Simple Macroeconomic Models with a Banking Sector: II - Rochet\, J
 -C (Universitt Zrich)
DTSTART:20141022T130000Z
DTEND:20141022T140000Z
UID:TALK55562@talks.cam.ac.uk
CONTACT:Mustapha Amrani
DESCRIPTION:In parallel with the development of DSGE models with frictions
 \, a series of  papers have recently proposed to integrate banks within mu
 ch simpler macro models. The objective is to develop simple calibrations a
 llowing to assess in a transparent way the impact of bank capital regulati
 on on growth and credit cycles. The aim of the tutorial is to present some
  of these models.\n\nTopic 2: Countercyclical capital requirements and Cre
 dit Cycles: Aikman Haldane Nelson  (2011) "Curbing the Credit Cycle" Bank 
 of England\, Gersbach Rochet (2013) "Capital Requirements and Credit Fluct
 uations" CEPR dp 9077\n
LOCATION:Seminar Room 1\, Newton Institute
END:VEVENT
END:VCALENDAR
