BEGIN:VCALENDAR
VERSION:2.0
PRODID:-//Talks.cam//talks.cam.ac.uk//
X-WR-CALNAME:Talks.cam
BEGIN:VEVENT
SUMMARY:Fluid-Solid interaction with flow: Do sound absorbers in aircraft 
 engines generate turbulence? - Ed Brambley: DAMTP\, University of Cambridg
 e
DTSTART:20141128T160000Z
DTEND:20141128T170000Z
UID:TALK55584@talks.cam.ac.uk
CONTACT:Eric Lauga
DESCRIPTION:Abstract not available
LOCATION:MR2\, Centre for Mathematical Sciences\, Wilberforce Road\, Cambr
 idge
END:VEVENT
END:VCALENDAR
