BEGIN:VCALENDAR
VERSION:2.0
PRODID:-//Talks.cam//talks.cam.ac.uk//
X-WR-CALNAME:Talks.cam
BEGIN:VEVENT
SUMMARY:Reading User Intentions: Predictive and Proactive Multimodal Inter
 faces - T. Metin Sezgin (Koç University)
DTSTART:20141030T111500Z
DTEND:20141030T121500Z
UID:TALK55614@talks.cam.ac.uk
CONTACT:Advait Sarkar
DESCRIPTION:Early computers were nothing more than sophisticated calculato
 rs. They lacked proper user interfaces\, and users communicated their inte
 ntions by punching carefully placed holes on cards. Advanced computers and
  handhelds of the present time are no better -- we communicate our intenti
 ons by punching virtual buttons and menus. We need to move beyond punching
  buttons by building smart systems that can reason about the intentions of
  their users. In this talk\, I will talk about how insights gained from ca
 reful analysis of natural human behaviour can be used to build systems tha
 t can predict user intentions\, and take proactive action accordingly.
LOCATION:Rainbow Seminar Room (SS03)\, Computer Laboratory
END:VEVENT
END:VCALENDAR
