BEGIN:VCALENDAR
VERSION:2.0
PRODID:-//Talks.cam//talks.cam.ac.uk//
X-WR-CALNAME:Talks.cam
BEGIN:VEVENT
SUMMARY:The 'richness' of brain organisation: What a large-scale human bra
 in functional network has in common with the C. elegans neuronal connectom
 e and beginning to describe brain disorders in terms of disordered network
 s - Emma Towlson (University of Cambridge)
DTSTART:20141023T110000Z
DTEND:20141023T120000Z
UID:TALK55665@talks.cam.ac.uk
CONTACT:Salvatore Tesoro
DESCRIPTION:Abstract not available
LOCATION:TCM Seminar room\, 530 Mott building
END:VEVENT
END:VCALENDAR
