BEGIN:VCALENDAR
VERSION:2.0
PRODID:-//Talks.cam//talks.cam.ac.uk//
X-WR-CALNAME:Talks.cam
BEGIN:VEVENT
SUMMARY:2nd Cambridge Fly Meeting - Speaker to be confirmed
DTSTART:20141204T173000Z
DTEND:20141204T193000Z
UID:TALK55752@talks.cam.ac.uk
CONTACT:Saskia Suijkerbuijk
DESCRIPTION:Abstract not available
LOCATION:Gurdon Institute Tea Room
END:VEVENT
END:VCALENDAR
