BEGIN:VCALENDAR
VERSION:2.0
PRODID:-//Talks.cam//talks.cam.ac.uk//
X-WR-CALNAME:Talks.cam
BEGIN:VEVENT
SUMMARY:Single molecule studies of mRNA localisation and motor activation 
 - Simon Bullock\, MRC Laboratory of Molecular Biology\, Cambridge
DTSTART:20141128T131500Z
DTEND:20141128T135500Z
UID:TALK55833@talks.cam.ac.uk
CONTACT:Alexandra Sapetschnig
DESCRIPTION:Abstract not available
LOCATION:Biffen Lecture Theatre\, Genetics\, Department of
END:VEVENT
END:VCALENDAR
