BEGIN:VCALENDAR
VERSION:2.0
PRODID:-//Talks.cam//talks.cam.ac.uk//
X-WR-CALNAME:Talks.cam
BEGIN:VEVENT
SUMMARY:COMSOL tutorial - Picioreanu\, C (Delft University of Technology)
DTSTART:20141103T090000Z
DTEND:20141103T170000Z
UID:TALK55880@talks.cam.ac.uk
CONTACT:Mustapha Amrani
DESCRIPTION:2014/11/03
LOCATION:Discussion Room\, Newton Institute
END:VEVENT
END:VCALENDAR
