BEGIN:VCALENDAR
VERSION:2.0
PRODID:-//Talks.cam//talks.cam.ac.uk//
X-WR-CALNAME:Talks.cam
BEGIN:VEVENT
SUMMARY:Peter Haynes - Speaker to be confirmed
DTSTART:20141105T100000Z
DTEND:20141105T110000Z
UID:TALK55940@talks.cam.ac.uk
CONTACT:Alison Ming
DESCRIPTION:Abstract not available
LOCATION:Venue to be confirmed
END:VEVENT
END:VCALENDAR
