BEGIN:VCALENDAR
VERSION:2.0
PRODID:-//Talks.cam//talks.cam.ac.uk//
X-WR-CALNAME:Talks.cam
BEGIN:VEVENT
SUMMARY:Alison and Amanda - Speaker to be confirmed
DTSTART:20141126T100000Z
DTEND:20141126T110000Z
UID:TALK55970@talks.cam.ac.uk
CONTACT:Megan Stamper
DESCRIPTION:Atmosphere-Ocean Group Meeting
LOCATION:CMS\, MR6
END:VEVENT
END:VCALENDAR
