BEGIN:VCALENDAR
VERSION:2.0
PRODID:-//Talks.cam//talks.cam.ac.uk//
X-WR-CALNAME:Talks.cam
BEGIN:VEVENT
SUMMARY:Bank Runs\, Deposit Insurance\, and Liquidity: I - Dybvig\, PH (Wa
 shington University in St. Louis)
DTSTART:20141118T110000Z
DTEND:20141118T120000Z
UID:TALK56206@talks.cam.ac.uk
CONTACT:Mustapha Amrani
DESCRIPTION:2014/11/18
LOCATION:Seminar Room 2\, Newton Institute Gatehouse
END:VEVENT
END:VCALENDAR
