BEGIN:VCALENDAR
VERSION:2.0
PRODID:-//Talks.cam//talks.cam.ac.uk//
X-WR-CALNAME:Talks.cam
BEGIN:VEVENT
SUMMARY:From research to practice in working memory: The challenges of mak
 ing a difference  - Susan Gathercole (MRC CBSU) 
DTSTART:20150302T160000Z
DTEND:20150302T173000Z
UID:TALK56337@talks.cam.ac.uk
CONTACT:Mandy Carter
DESCRIPTION:Abstract not available
LOCATION:Seminar Room\, Department of Psychology\, Downing Site\, Cambridg
 e
END:VEVENT
END:VCALENDAR
