BEGIN:VCALENDAR
VERSION:2.0
PRODID:-//Talks.cam//talks.cam.ac.uk//
X-WR-CALNAME:Talks.cam
BEGIN:VEVENT
SUMMARY:The Visualisation and Ritualisation of Football under National Soc
 ialism - Dr Markwart Herzog\, Director of Schwabenakademie Irsee
DTSTART:20141121T163000Z
DTEND:20141121T173000Z
UID:TALK56355@talks.cam.ac.uk
CONTACT:Ulrike Balser
DESCRIPTION:Abstract not available
LOCATION:Castlereagh Room\, Fisher Building\, St John's College\, Cambridg
 e CB2 1TP
END:VEVENT
END:VCALENDAR
