BEGIN:VCALENDAR
VERSION:2.0
PRODID:-//Talks.cam//talks.cam.ac.uk//
X-WR-CALNAME:Talks.cam
BEGIN:VEVENT
SUMMARY:test 2 - cu
DTSTART:20061010T100000Z
DTEND:20061010T110000Z
UID:TALK5637@talks.cam.ac.uk
CONTACT:Lianne Sallows
DESCRIPTION:no abstract\n******************************************
LOCATION:MSM
END:VEVENT
END:VCALENDAR
