BEGIN:VCALENDAR
VERSION:2.0
PRODID:-//Talks.cam//talks.cam.ac.uk//
X-WR-CALNAME:Talks.cam
BEGIN:VEVENT
SUMMARY:Title to be confirmed - K. R. Jayaram
DTSTART:20141216T131500Z
DTEND:20141216T134500Z
UID:TALK56454@talks.cam.ac.uk
CONTACT:Heidi Howard
DESCRIPTION:Abstract not available
LOCATION:Computer Laboratory\, William Gates Building\, Room FW11
END:VEVENT
END:VCALENDAR
