BEGIN:VCALENDAR
VERSION:2.0
PRODID:-//Talks.cam//talks.cam.ac.uk//
X-WR-CALNAME:Talks.cam
BEGIN:VEVENT
SUMMARY:'Breaking Democracy's Spell' - John Dunn\, King's College\, Cambri
 dge
DTSTART:20141120T160000Z
DTEND:20141120T180000Z
UID:TALK56475@talks.cam.ac.uk
CONTACT:Waseem Yaqoob
DESCRIPTION:Abstract not available
LOCATION:Corpus Christi\, Room I4
END:VEVENT
END:VCALENDAR
