BEGIN:VCALENDAR
VERSION:2.0
PRODID:-//Talks.cam//talks.cam.ac.uk//
X-WR-CALNAME:Talks.cam
BEGIN:VEVENT
SUMMARY:Matthew Parris - Matthew Parris\, The Times
DTSTART:20061011T193000Z
DTEND:20061011T210000Z
UID:TALK5656@talks.cam.ac.uk
CONTACT:Matt Clifford
DESCRIPTION:Matthew Parris is our inaugural speaker and honorary patron of
  the society. A graduate of Clare College\, he worked in the Foreign Offic
 e and the Conservative Research Department before becoming an MP. He now h
 as a successful career in political journalism and writes weekly columns f
 or the Times and the Spectator.
LOCATION:Latimer Room\, Clare College
END:VEVENT
END:VCALENDAR
