BEGIN:VCALENDAR
VERSION:2.0
PRODID:-//Talks.cam//talks.cam.ac.uk//
X-WR-CALNAME:Talks.cam
BEGIN:VEVENT
SUMMARY:CERF Cavalcade 2015  - aee the webpage for details
DTSTART:20150520T100000Z
DTEND:20150520T120000Z
UID:TALK56675@talks.cam.ac.uk
CONTACT:Cerf Admin
DESCRIPTION:The CERF Cavalcade aims to give you a glimpse of the research 
 that is currently sponsored by CERF. The cavalcade consists of a processio
 n of six speakers. Each speaker has only twelve minutes to present his wor
 k\, turning the cavalcade into a dynamic event that should keep you engage
 d from beginning to end. The cavalcade includes speakers from the Faculty 
 of Economics\, Cambridge Judge Business School\, the Faculty of History\, 
 the Department of Sociology and CERF. This mix illustrates the interdiscip
 linary nature of CERF. All talks have a common denominator though: they co
 ver research that aims to improve our understanding of some aspect of fina
 nce. Programme to follow.
LOCATION: W2.01\, Judge Business School\, Trumpington Street\, Cambridge C
 B2 1AG
END:VEVENT
END:VCALENDAR
