BEGIN:VCALENDAR
VERSION:2.0
PRODID:-//Talks.cam//talks.cam.ac.uk//
X-WR-CALNAME:Talks.cam
BEGIN:VEVENT
SUMMARY:Asymptotic Growth of Torsion Homology of Arithmetic Hyperbolic 3-M
 anifolds  - Haluk Sengun (Sheffield University)
DTSTART:20150203T161500Z
DTEND:20150203T171500Z
UID:TALK56680@talks.cam.ac.uk
CONTACT:Jack Thorne
DESCRIPTION:Torsion in the homology of arithmetic manifolds has received s
 ignificant amount of interest\nrecently in the Langlands Programme. In thi
 s talk\, we will concentrate on the case of arithmetic hyperbolic\n3-manif
 olds. The main result we will discuss\, joint work with N.Bergeron and A.V
 enkatesh\, will\nconcentrate on the asymptotic growth of the size of torsi
 on homology and how it relates to arithmetic. 
LOCATION:MR13
END:VEVENT
END:VCALENDAR
