BEGIN:VCALENDAR
VERSION:2.0
PRODID:-//Talks.cam//talks.cam.ac.uk//
X-WR-CALNAME:Talks.cam
BEGIN:VEVENT
SUMMARY:Group 2 Innate Lymphoid Cells regulate the innate and adaptive imm
 une response to inhaled allergens - Dr Tim Halim\, MRC LMB\, University of
  Cambridge
DTSTART:20150218T123000Z
DTEND:20150218T133000Z
UID:TALK56762@talks.cam.ac.uk
CONTACT:Sue Griffin
DESCRIPTION:Abstract not available
LOCATION:Lecture Theatre\, Department of Pathology\, Tennis Court Road
END:VEVENT
END:VCALENDAR
