BEGIN:VCALENDAR
VERSION:2.0
PRODID:-//Talks.cam//talks.cam.ac.uk//
X-WR-CALNAME:Talks.cam
BEGIN:VEVENT
SUMMARY:An M-dwarf Companion to an early F-type Star in a very young syste
 m - Philipp Eigmuller (DLR)
DTSTART:20150211T160000Z
DTEND:20150211T164500Z
UID:TALK56801@talks.cam.ac.uk
CONTACT:Dr B.-O. Demory
DESCRIPTION:Abstract not available
LOCATION:Martin Ryle Seminar Room\, Kavli Institute
END:VEVENT
END:VCALENDAR
