BEGIN:VCALENDAR
VERSION:2.0
PRODID:-//Talks.cam//talks.cam.ac.uk//
X-WR-CALNAME:Talks.cam
BEGIN:VEVENT
SUMMARY:Novel materials and fabrication paradigms for plastic micro &amp\;
  nano-scale electronics - Thomas Anthopoulos\, Imperial College London
DTSTART:20150113T143000Z
DTEND:20150113T153000Z
UID:TALK57146@talks.cam.ac.uk
CONTACT:40806
DESCRIPTION:Abstract not available
LOCATION:Kapitza Building Seminar Room\, Cavendish Laboratory\, Department
  of Physics
END:VEVENT
END:VCALENDAR
