BEGIN:VCALENDAR
VERSION:2.0
PRODID:-//Talks.cam//talks.cam.ac.uk//
X-WR-CALNAME:Talks.cam
BEGIN:VEVENT
SUMMARY:Quality of data and handling missing data in costing studies. - Dr
  Adam Wagner\, Cambridge Intellectual and Developmental Disabilities Resea
 rch Group
DTSTART:20150216T143000Z
DTEND:20150216T153000Z
UID:TALK57483@talks.cam.ac.uk
CONTACT:41010
DESCRIPTION:Abstract not available
LOCATION:Large  Seminar Room\, 1st Floor\, Institute of Public Health\, Un
 iversity Forvie Site\, Robinson Way\, Cambridge
END:VEVENT
END:VCALENDAR
