BEGIN:VCALENDAR
VERSION:2.0
PRODID:-//Talks.cam//talks.cam.ac.uk//
X-WR-CALNAME:Talks.cam
BEGIN:VEVENT
SUMMARY:Liouville Quantum Gravity on the Riemann sphere - Rhodes\, R (Univ
 ersit Paris-Dauphine )
DTSTART:20150127T100000Z
DTEND:20150127T110000Z
UID:TALK57530@talks.cam.ac.uk
CONTACT:Mustapha Amrani
DESCRIPTION:Co-authors: David ()\, Kupiainen ()\, Vargas ()\n\nIn this tal
 k\, I will explain how to rigorously construct Liouville quantum field the
 ory on the Riemann sphere and precise conjectures relating this object to 
 the scaling limit of random planar maps conformally embedded onto the Riem
 ann sphere.\n\n
LOCATION:Seminar Room 1\, Newton Institute
END:VEVENT
END:VCALENDAR
