BEGIN:VCALENDAR
VERSION:2.0
PRODID:-//Talks.cam//talks.cam.ac.uk//
X-WR-CALNAME:Talks.cam
BEGIN:VEVENT
SUMMARY:The anatomy of an influenza pandemic - Dr Paul Birrell (MRC Biosta
 tistics Unit)
DTSTART:20150209T203000Z
DTEND:20150209T213000Z
UID:TALK57618@talks.cam.ac.uk
CONTACT:32680
DESCRIPTION:Abstract not available
LOCATION:Winstanley Lecture Theatre\, Trinity College
END:VEVENT
END:VCALENDAR
