BEGIN:VCALENDAR
VERSION:2.0
PRODID:-//Talks.cam//talks.cam.ac.uk//
X-WR-CALNAME:Talks.cam
BEGIN:VEVENT
SUMMARY:CSI: Crime Scene Insects - Dr Amoret Whitaker
DTSTART:20150218T210000Z
DTEND:20150218T220000Z
UID:TALK58091@talks.cam.ac.uk
CONTACT:Patrick Szmucer
DESCRIPTION:Dr Amoret Whitaker talks Forensic Entomology - the use of inse
 cts to help with death investigations. Should be very interesting\, if a l
 ittle gory!
LOCATION:Nihon Room\, Pembroke College
END:VEVENT
END:VCALENDAR
