BEGIN:VCALENDAR
VERSION:2.0
PRODID:-//Talks.cam//talks.cam.ac.uk//
X-WR-CALNAME:Talks.cam
BEGIN:VEVENT
SUMMARY:The Theory Behind Co-evolution Based Methods for Protein Structure
  Analysis - Alexey Morgunov
DTSTART:20150222T111500Z
DTEND:20150222T114500Z
UID:TALK58152@talks.cam.ac.uk
CONTACT:Mary Fortune
DESCRIPTION:Abstract not available
LOCATION:Winstanley Lecture Theatre\, Trinity College
END:VEVENT
END:VCALENDAR
