BEGIN:VCALENDAR
VERSION:2.0
PRODID:-//Talks.cam//talks.cam.ac.uk//
X-WR-CALNAME:Talks.cam
BEGIN:VEVENT
SUMMARY:Wavelet decomposition of integral operators: application to real-t
 ime l1-l2 deconvolution - Pierre Weiss (University of Toulouse)
DTSTART:20151105T150000Z
DTEND:20151105T160000Z
UID:TALK58515@talks.cam.ac.uk
CONTACT:Carola-Bibiane Schoenlieb
DESCRIPTION:Abstract not available
LOCATION:MR 14\, CMS
END:VEVENT
END:VCALENDAR
