BEGIN:VCALENDAR
VERSION:2.0
PRODID:-//Talks.cam//talks.cam.ac.uk//
X-WR-CALNAME:Talks.cam
BEGIN:VEVENT
SUMMARY:Carbon Nanotubes- the Future for Electronics? - Professor Bill Mil
 ne\, Department of Engineering\, University of Cambridge
DTSTART:20070212T203000Z
DTEND:20070212T213000Z
UID:TALK5858@talks.cam.ac.uk
CONTACT:Beverley Larner
DESCRIPTION:Abstract not available
LOCATION:Cockcroft Lecture Theatre\, New Museums Site
END:VEVENT
END:VCALENDAR
