BEGIN:VCALENDAR
VERSION:2.0
PRODID:-//Talks.cam//talks.cam.ac.uk//
X-WR-CALNAME:Talks.cam
BEGIN:VEVENT
SUMMARY:Test talk 1 - Speaker to be confirmed
DTSTART:20061103T110000Z
DTEND:20061103T120000Z
UID:TALK5866@talks.cam.ac.uk
CONTACT:Helen Elsom
DESCRIPTION:_Test talk_ by *Guest Speaker*\nhttp://www.rsd.cam.ac.uk/event
 s/horizon/fourthseries/rtd.html
LOCATION:Venue to be confirmed
END:VEVENT
END:VCALENDAR
