BEGIN:VCALENDAR
VERSION:2.0
PRODID:-//Talks.cam//talks.cam.ac.uk//
X-WR-CALNAME:Talks.cam
BEGIN:VEVENT
SUMMARY:Analytic continuation on some unitary Shimura varieties  - Stépha
 ne Bijakowski (Paris 13)
DTSTART:20150512T151500Z
DTEND:20150512T161500Z
UID:TALK58795@talks.cam.ac.uk
CONTACT:Jack Thorne
DESCRIPTION:Coleman proved that an overconvergent modular form\, which is 
 an eigenform for the operator U_p\, is classical if the weight is sufficie
 ntly large. This result has been reproven by Buzzard and Kassaei using an 
 analytic continuation method.\nAfter the presentation of their proof\, I w
 ill show how this method can be adapted to prove classicality results on u
 nitary Shimura varieties.\n
LOCATION:MR13
END:VEVENT
END:VCALENDAR
