BEGIN:VCALENDAR
VERSION:2.0
PRODID:-//Talks.cam//talks.cam.ac.uk//
X-WR-CALNAME:Talks.cam
BEGIN:VEVENT
SUMMARY:&quot\;Schwann Cell Transplantation: From Bench to Bedside” - Pr
 ofessor Mary Bunge\, The Miami Project to Cure Paralysis\, Miami\, USA
DTSTART:20150630T110000Z
DTEND:20150630T120000Z
UID:TALK58827@talks.cam.ac.uk
CONTACT:Shannon Tinley-Browne
DESCRIPTION:Abstract not available
LOCATION:Brain Repair Centre\, Forvie Site\, Robinson Way
END:VEVENT
END:VCALENDAR
