BEGIN:VCALENDAR
VERSION:2.0
PRODID:-//Talks.cam//talks.cam.ac.uk//
X-WR-CALNAME:Talks.cam
BEGIN:VEVENT
SUMMARY:Locality of critical points: the connective constant - Geoffrey Gr
 immett (Cambridge)
DTSTART:20150505T140000Z
DTEND:20150505T150000Z
UID:TALK58896@talks.cam.ac.uk
CONTACT:John Shimmon
DESCRIPTION:Is the numerical value of a critical point a continuous functi
 on of the underlying graph? I shall discuss this question in general\, and
  then concentrate on the problem of counting self-avoiding walks (SAWs). I
 t turns out that this problem is related to bridge-decompositions of SAWs\
 , and\, in the case of Cayley graphs\, to the existence of linearly growin
 g harmonic functions that respect the group structure. [Joint work with Zh
 ongyang Li.]
LOCATION:MR12\, CMS\, Wilberforce Road\, Cambridge\, CB3 0WB
END:VEVENT
END:VCALENDAR
