BEGIN:VCALENDAR
VERSION:2.0
PRODID:-//Talks.cam//talks.cam.ac.uk//
X-WR-CALNAME:Talks.cam
BEGIN:VEVENT
SUMMARY:How do infants learn from us? Investigating the neural mechanisms 
 involved in infants' social learning - Dr Victoria Southgate - Birkbeck\, 
 University of London
DTSTART:20150512T120000Z
DTEND:20150512T130000Z
UID:TALK58936@talks.cam.ac.uk
CONTACT:Rebecca Noorderhaven
DESCRIPTION:Abstract not available
LOCATION:PPSIS Seminar Room (Free School Lane)
END:VEVENT
END:VCALENDAR
