BEGIN:VCALENDAR
VERSION:2.0
PRODID:-//Talks.cam//talks.cam.ac.uk//
X-WR-CALNAME:Talks.cam
BEGIN:VEVENT
SUMMARY:Conformally invariant loop measures - Stéphane Benoist (Columbia)
DTSTART:20150414T153000Z
DTEND:20150414T163000Z
UID:TALK58950@talks.cam.ac.uk
CONTACT:HoD Secretary\, DPMMS
DESCRIPTION:\n\n We will discuss several aspects of a conjecture by\nKonts
 evich and Suhov regarding existence and uniqueness of a one\nparameter fam
 ily of conformally invariant measures on simple loops\n(conjecturally rela
 ted to the SLE family). The most natural case (zero\ncentral charge i.e. S
 LE parameter kappa=8/3) was understood in a\nbeautiful paper of Werner pre
 dating the conjecture. Dubédat and myself\nconstructed an example of such
  a loop measure in non-zero central\ncharge (kappa=2 i.e. c=-2). 
LOCATION:MR12\, CMS\, Wilberforce Road\, Cambridge\, CB3 0WB
END:VEVENT
END:VCALENDAR
