BEGIN:VCALENDAR
VERSION:2.0
PRODID:-//Talks.cam//talks.cam.ac.uk//
X-WR-CALNAME:Talks.cam
BEGIN:VEVENT
SUMMARY:Mantle transition zone structure beneath Europe from P-to-s conver
 sions  - Dr Sanne Cottaar\, Bullard Labs
DTSTART:20150527T150000Z
DTEND:20150527T160000Z
UID:TALK58997@talks.cam.ac.uk
CONTACT:David Al-Attar
DESCRIPTION:Abstract not available
LOCATION:Marine/Wolfson Building lecture hall
END:VEVENT
END:VCALENDAR
