BEGIN:VCALENDAR
VERSION:2.0
PRODID:-//Talks.cam//talks.cam.ac.uk//
X-WR-CALNAME:Talks.cam
BEGIN:VEVENT
SUMMARY:Cell signalling and oncogenesis in the absence of growth factor st
 imulation - Professor John Ladbury\, Faculty of Biological Sciences\, Univ
 ersity of Leeds
DTSTART:20150608T120000Z
DTEND:20150608T130000Z
UID:TALK59067@talks.cam.ac.uk
CONTACT:Susan
DESCRIPTION:Abstract not available
LOCATION:Sackler Lecture Theatre\, Wellcome Trust/MRC Building\, Addenbroo
 ke's 
END:VEVENT
END:VCALENDAR
