BEGIN:VCALENDAR
VERSION:2.0
PRODID:-//Talks.cam//talks.cam.ac.uk//
X-WR-CALNAME:Talks.cam
BEGIN:VEVENT
SUMMARY:Animal Foresight: Can Western Scrub-jays Plan for the Future? - De
 an Alexis (Dept. of Experimental Psychology)
DTSTART:20061116T193000Z
DTEND:20061116T210000Z
UID:TALK5920@talks.cam.ac.uk
CONTACT:4641
DESCRIPTION:Abstract not available
LOCATION:MCR\, Clare College
END:VEVENT
END:VCALENDAR
