BEGIN:VCALENDAR
VERSION:2.0
PRODID:-//Talks.cam//talks.cam.ac.uk//
X-WR-CALNAME:Talks.cam
BEGIN:VEVENT
SUMMARY:Amenability of automata groups - Omer Angel (UBC)
DTSTART:20150526T140000Z
DTEND:20150526T150000Z
UID:TALK59570@talks.cam.ac.uk
CONTACT:John Shimmon
DESCRIPTION:I will discuss probabilistic methods of determining amenabilit
 y of groups by studying random walks on them\, specifically involving entr
 opy of random walks and actions of the group. I will focus on application 
 for automata groups. These are a class of groups of automorphisms of trees
  with self-similar actions\, and include natural realizations of many inte
 resting groups (self-similar\, of intermediate growth\, lamplighters\, etc
 .)
LOCATION:MR12\, CMS\, Wilberforce Road\, Cambridge\, CB3 0WB
END:VEVENT
END:VCALENDAR
