BEGIN:VCALENDAR
VERSION:2.0
PRODID:-//Talks.cam//talks.cam.ac.uk//
X-WR-CALNAME:Talks.cam
BEGIN:VEVENT
SUMMARY:Driven to Extinction? How transport policy can save the world - Ni
 gel Brigham  SUSTRANS
DTSTART:20061129T180000Z
DTEND:20061129T200000Z
UID:TALK5958@talks.cam.ac.uk
CONTACT:Dr Dick Fenner
DESCRIPTION:Sustrans is a leading sustainable transport charity. Their vis
 ion is a world in which people can choose to travel in ways that benefit t
 heir health and the environment. Sustrans promote practical\, innovative w
 ays of dealing with the transport challenges that affect us all.
LOCATION:Cambridge University Engineering Department\, Lecture Room 6
END:VEVENT
END:VCALENDAR
