BEGIN:VCALENDAR
VERSION:2.0
PRODID:-//Talks.cam//talks.cam.ac.uk//
X-WR-CALNAME:Talks.cam
BEGIN:VEVENT
SUMMARY:Illness\, Body and Mind Workshop - Speaker to be confirmed
DTSTART:20150527T123000Z
DTEND:20150527T140000Z
UID:TALK59623@talks.cam.ac.uk
CONTACT:Rowena Bermingham
DESCRIPTION:This workshop is aimed at early career researchers (postgradua
 tes and post-doctoral researchers) interested in interdisciplinary social 
 science research related to the interaction of body and mind. This topic h
 as become increasingly influential and important across many disciplines. 
 As researchers in different fields start to ask the same questions about t
 he link between body and mind\, the need to bring these disciplines togeth
 er in discussion increases.\n\nThis will be a space for researchers to dis
 cuss key issues in this area. There will be presentations by early career 
 researchers on their work looking at illness\, body and mind. This will be
  followed by an informal discussion.\n\nThis workshop is part of the full 
 day Body in Mind Symposium. You are welcome to attend just this workshop\,
  or the full day Symposium. More information may be found on "our website"
 :http://www.cambridgebodymind.com
LOCATION:B3\, Institute of Criminology\, Sidgwick Site
END:VEVENT
END:VCALENDAR
