BEGIN:VCALENDAR
VERSION:2.0
PRODID:-//Talks.cam//talks.cam.ac.uk//
X-WR-CALNAME:Talks.cam
BEGIN:VEVENT
SUMMARY:Lea van de Graaf and Emily Hornett -  
DTSTART:20150609T090000Z
DTEND:20150609T103000Z
UID:TALK59703@talks.cam.ac.uk
CONTACT:Markus Möst
DESCRIPTION:Abstract not available
LOCATION:First Floor Seminar Room\, Department of Zoology
END:VEVENT
END:VCALENDAR
