BEGIN:VCALENDAR
VERSION:2.0
PRODID:-//Talks.cam//talks.cam.ac.uk//
X-WR-CALNAME:Talks.cam
BEGIN:VEVENT
SUMMARY:Theory of iron and iron-bearing minerals in the Earth: Electrical 
 conductivity in the mantle and core and implications for the geodynamo - R
 onald Cohen\, Geophysical Laboratory\, Carnegie Institution for Science\, 
 Washington\, and Dept. Earth Sciences\, UCL\, London\, UK
DTSTART:20150609T150000Z
DTEND:20150609T160000Z
UID:TALK59711@talks.cam.ac.uk
CONTACT:Andy Buckley
DESCRIPTION:Abstract not available
LOCATION:Tilley Lecture Theatre\, Department of Earth Sciences\, Downing S
 treet
END:VEVENT
END:VCALENDAR
