BEGIN:VCALENDAR
VERSION:2.0
PRODID:-//Talks.cam//talks.cam.ac.uk//
X-WR-CALNAME:Talks.cam
BEGIN:VEVENT
SUMMARY:Moduli Stabilisation SUSY Breaking in IIB  String Theory - Fernand
 o Quevedo (DAMTP)
DTSTART:20061122T140000Z
DTEND:20061122T150000Z
UID:TALK5984@talks.cam.ac.uk
CONTACT:Annamaria Sinkovics
DESCRIPTION:Abstract not available
LOCATION:MR2\, Centre for Mathematical Sciences
END:VEVENT
END:VCALENDAR
