BEGIN:VCALENDAR
VERSION:2.0
PRODID:-//Talks.cam//talks.cam.ac.uk//
X-WR-CALNAME:Talks.cam
BEGIN:VEVENT
SUMMARY:The role of fungi in self-organisation of the soil-microbe complex
  - Professor John Crawford\, University of Abertay\, Dundee
DTSTART:20070222T160000Z
DTEND:20070222T170000Z
UID:TALK6020@talks.cam.ac.uk
CONTACT:3901
DESCRIPTION:Soil harbours most of the world's biological diversity and its
  functionality supports the rest of the terrestrial ecosystem. To manage t
 he soil system in a sustainable way\, we need to understand the origins of
  its dynamical state and characterise the stability and efficiencies of as
 sociated processes. Recent ideas on the importance of the interaction betw
 een physical and biological processes in determining its dynamical state w
 ill be discussed\, along with the possibility that the soil-microbe comple
 x is self-organising. Evidence that the contribution to the dynamics from 
 soil fungi is key will be presented and it will be shown that this present
 s special challenges to the development of a theoretical framework for soi
 l. A model for the fungal phenotype will be described and some ideas on ho
 w this model may be extended to explore the interaction between the commun
 ity dynamics of fungi and the dynamics of the soil-microbe complex will be
  given. 
LOCATION:Department of Plant Sciences\, Large Lecture Theatre
END:VEVENT
END:VCALENDAR
