BEGIN:VCALENDAR
VERSION:2.0
PRODID:-//Talks.cam//talks.cam.ac.uk//
X-WR-CALNAME:Talks.cam
BEGIN:VEVENT
SUMMARY:K3 categories of cubic fourfolds - Daniel Huybrechts\, University 
 of Bonn
DTSTART:20160217T141500Z
DTEND:20160217T151500Z
UID:TALK60473@talks.cam.ac.uk
CONTACT:Mark Gross
DESCRIPTION:Abstract not available
LOCATION:CMS MR13
END:VEVENT
END:VCALENDAR
